BEGIN:VCALENDAR
VERSION:2.0
PRODID:https://www.kufer.de/kuferweb / DE
METHOD:PUBLISH
CALSCALE:GREGORIAN
X-WR-TIMEZONE:Europe/Berlin
BEGIN:VTIMEZONE
TZID:Europe/Berlin
X-LIC-LOCATION:Europe/Berlin
BEGIN:DAYLIGHT
TZOFFSETFROM:+0100
TZOFFSETTO:+0200
TZNAME:CEST
DTSTART:19700329T020000
RRULE:FREQ=YEARLY;INTERVAL=1;BYDAY=-1SU;BYMONTH=3
END:DAYLIGHT
BEGIN:STANDARD
TZOFFSETFROM:+0200
TZOFFSETTO:+0100
TZNAME:CET
DTSTART:19701025T030000
RRULE:FREQ=YEARLY;INTERVAL=1;BYDAY=-1SU;BYMONTH=10
END:STANDARD
END:VTIMEZONE
BEGIN:VEVENT
DTSTAMP:20260424T155113
DTSTART;TZID=Europe/Berlin:20260428T094500
DTEND;TZID=Europe/Berlin:20260428T104500
UID:261-42515-20260428T094500@VHSBAYRISCHZELL
SUMMARY:Balance Swing - Fitness auf dem Minitrampolin für ALLE  (Easy-Kurs) (261-42515) 
LOCATION:Fischbachau, Leitzachtalstr. 157, Leitzachtalstr. 157, 83730 Fischbachau
END:VEVENT
BEGIN:VEVENT
DTSTAMP:20260424T155113
DTSTART;TZID=Europe/Berlin:20260505T094500
DTEND;TZID=Europe/Berlin:20260505T104500
UID:261-42515-20260505T094500@VHSBAYRISCHZELL
SUMMARY:Balance Swing - Fitness auf dem Minitrampolin für ALLE  (Easy-Kurs) (261-42515) 
LOCATION:Fischbachau, Leitzachtalstr. 157, Leitzachtalstr. 157, 83730 Fischbachau
END:VEVENT
BEGIN:VEVENT
DTSTAMP:20260424T155113
DTSTART;TZID=Europe/Berlin:20260512T094500
DTEND;TZID=Europe/Berlin:20260512T104500
UID:261-42515-20260512T094500@VHSBAYRISCHZELL
SUMMARY:Balance Swing - Fitness auf dem Minitrampolin für ALLE  (Easy-Kurs) (261-42515) 
LOCATION:Fischbachau, Leitzachtalstr. 157, Leitzachtalstr. 157, 83730 Fischbachau
END:VEVENT
BEGIN:VEVENT
DTSTAMP:20260424T155113
DTSTART;TZID=Europe/Berlin:20260519T094500
DTEND;TZID=Europe/Berlin:20260519T104500
UID:261-42515-20260519T094500@VHSBAYRISCHZELL
SUMMARY:Balance Swing - Fitness auf dem Minitrampolin für ALLE  (Easy-Kurs) (261-42515) 
LOCATION:Fischbachau, Leitzachtalstr. 157, Leitzachtalstr. 157, 83730 Fischbachau
END:VEVENT
BEGIN:VEVENT
DTSTAMP:20260424T155113
DTSTART;TZID=Europe/Berlin:20260609T094500
DTEND;TZID=Europe/Berlin:20260609T104500
UID:261-42515-20260609T094500@VHSBAYRISCHZELL
SUMMARY:Balance Swing - Fitness auf dem Minitrampolin für ALLE  (Easy-Kurs) (261-42515) 
LOCATION:Fischbachau, Leitzachtalstr. 157, Leitzachtalstr. 157, 83730 Fischbachau
END:VEVENT
BEGIN:VEVENT
DTSTAMP:20260424T155113
DTSTART;TZID=Europe/Berlin:20260616T094500
DTEND;TZID=Europe/Berlin:20260616T104500
UID:261-42515-20260616T094500@VHSBAYRISCHZELL
SUMMARY:Balance Swing - Fitness auf dem Minitrampolin für ALLE  (Easy-Kurs) (261-42515) 
LOCATION:Fischbachau, Leitzachtalstr. 157, Leitzachtalstr. 157, 83730 Fischbachau
END:VEVENT
BEGIN:VEVENT
DTSTAMP:20260424T155113
DTSTART;TZID=Europe/Berlin:20260623T094500
DTEND;TZID=Europe/Berlin:20260623T104500
UID:261-42515-20260623T094500@VHSBAYRISCHZELL
SUMMARY:Balance Swing - Fitness auf dem Minitrampolin für ALLE  (Easy-Kurs) (261-42515) 
LOCATION:Fischbachau, Leitzachtalstr. 157, Leitzachtalstr. 157, 83730 Fischbachau
END:VEVENT
BEGIN:VEVENT
DTSTAMP:20260424T155113
DTSTART;TZID=Europe/Berlin:20260630T094500
DTEND;TZID=Europe/Berlin:20260630T104500
UID:261-42515-20260630T094500@VHSBAYRISCHZELL
SUMMARY:Balance Swing - Fitness auf dem Minitrampolin für ALLE  (Easy-Kurs) (261-42515) 
LOCATION:Fischbachau, Leitzachtalstr. 157, Leitzachtalstr. 157, 83730 Fischbachau
END:VEVENT
BEGIN:VEVENT
DTSTAMP:20260424T155113
DTSTART;TZID=Europe/Berlin:20260707T094500
DTEND;TZID=Europe/Berlin:20260707T104500
UID:261-42515-20260707T094500@VHSBAYRISCHZELL
SUMMARY:Balance Swing - Fitness auf dem Minitrampolin für ALLE  (Easy-Kurs) (261-42515) 
LOCATION:Fischbachau, Leitzachtalstr. 157, Leitzachtalstr. 157, 83730 Fischbachau
END:VEVENT
BEGIN:VEVENT
DTSTAMP:20260424T155113
DTSTART;TZID=Europe/Berlin:20260714T094500
DTEND;TZID=Europe/Berlin:20260714T104500
UID:261-42515-20260714T094500@VHSBAYRISCHZELL
SUMMARY:Balance Swing - Fitness auf dem Minitrampolin für ALLE  (Easy-Kurs) (261-42515) 
LOCATION:Fischbachau, Leitzachtalstr. 157, Leitzachtalstr. 157, 83730 Fischbachau
END:VEVENT
END:VCALENDAR